BEGIN:VCALENDAR
VERSION:2.0
PRODID:-//Apron Strings - ECPv6.15.20//NONSGML v1.0//EN
CALSCALE:GREGORIAN
METHOD:PUBLISH
X-ORIGINAL-URL:https://apronstrings.uk
X-WR-CALDESC:Events for Apron Strings
REFRESH-INTERVAL;VALUE=DURATION:PT1H
X-Robots-Tag:noindex
X-PUBLISHED-TTL:PT1H
BEGIN:VTIMEZONE
TZID:UTC
BEGIN:STANDARD
TZOFFSETFROM:+0000
TZOFFSETTO:+0000
TZNAME:UTC
DTSTART:20220101T000000
END:STANDARD
END:VTIMEZONE
BEGIN:VEVENT
DTSTART;TZID=UTC:20230930T190000
DTEND;TZID=UTC:20230930T220000
DTSTAMP:20260420T101057
CREATED:20230824T143943Z
LAST-MODIFIED:20230824T192206Z
UID:10032-1696100400-1696111200@apronstrings.uk
SUMMARY:September Pop-Up Dining Experience - 7 Courses
DESCRIPTION:  \nThe total cost of the meal is £75 per person including VAT.  \n*Please note a £30 non-refundable deposit is required\, per person\, to secure your booking and the rest of the balance will be due on the night. We offer tables of 2 (£60 deposit) or 4 (£120 deposit) and you will need to present your ticket on arrival in order to be seated. \n*NB Tickets are per table and not per person! \n*We are able to cater for specific dietary requirements\, but we must be notified in advance. Please email us at apronstringsculinarystudio@gmail.com no later than 1 week prior to the event with any dietary requirements. \nWe look forward to seeing you!
URL:https://apronstrings.uk/event/september-pop-up-dining-experience
LOCATION:Apron Strings Culinary Studio\, 20 Souttergate\, Hedon\, East Yorkshire\, HU12 8JS\, United Kingdom
CATEGORIES:Pop-up restaurant
ATTACH;FMTTYPE=image/jpeg:https://apronstrings.uk/wp-content/uploads/2023/08/367609799_1463189617556232_2668106901785944813_n-2.jpg
ORGANIZER;CN="Apron Strings Culinary Studio":MAILTO:apronstringsculinarystudio@gmail.com
END:VEVENT
END:VCALENDAR